BEGIN:VCALENDAR
VERSION:2.0
PRODID:-//wp-events-plugin.com//7.2.3.1//EN
TZID:Europe/Zurich
X-WR-TIMEZONE:Europe/Zurich
BEGIN:VEVENT
UID:15@coeurvalais.ch
DTSTART;TZID=Europe/Zurich:20210130T080000
DTEND;TZID=Europe/Zurich:20210130T123000
DTSTAMP:20210113T143531Z
URL:https://coeurvalais.ch/events/cours-bls-aed-src-complet-generic-provid
 er/
SUMMARY:Cours BLS-AED SRC Complet-Generic Provider
DESCRIPTION:Durée : 4h30 selon les Guidelines 2015 du Swiss Resuscitation 
 Council (SRC)\n\nPrérequis : aucun\n\nPublic cible : ouvert à tous\, sau
 f professionnels de la santé\n\nNombre de participants : maximum 4\n\nInc
 lus : Le livre BLS-AED SRC\, un pocket masque\, le certificat et carte ain
 si que les boissons.\n\nLes informations détaillées seront envoyées aux
  participants deux semaines avant le cours.\nVeuillez inscrire vos nom et 
 prénom complets. Ceux-ci seront repris pour les certificats.
LOCATION:Sion\, Avenue Maurice-Troillet\, Sion\, 1964\, Suisse
X-APPLE-STRUCTURED-LOCATION;VALUE=URI;X-ADDRESS=Avenue Maurice-Troillet\, S
 ion\, 1964\, Suisse;X-APPLE-RADIUS=100;X-TITLE=Sion:geo:0,0
END:VEVENT
BEGIN:VTIMEZONE
TZID:Europe/Zurich
X-LIC-LOCATION:Europe/Zurich
BEGIN:STANDARD
DTSTART:20201025T020000
TZOFFSETFROM:+0200
TZOFFSETTO:+0100
TZNAME:CET
END:STANDARD
END:VTIMEZONE
END:VCALENDAR